Workbook
Name kategoryteach: [1]подсказка!$D$2:$D$4
Name teacher: [1]подсказка!$A$2:$A$37
Name Преподаватели: [2]Справочник!$G$38:$G$39

Sheet русский язык
A2: № | B2: ФИО | C2: Дата рождения | D2: Серия, номер паспорта | E2: Специальность по ДИПЛОМУ (перечислить все в порядке получения) | F2: Что окончил (перечислить все в порядке получения) | G2: Год окончания (перечислить все в порядке получения) | H2: Должность работника, преподав. предмет (сколько долж-й - столько раз показать человека) | I2: Стаж педагогической/общий | J2: Квалификационная категория | K2: ПОВЫШЕНИЕ КВАЛИФИКАЦИИ: Год прохождения КПК (за последние 3 года) , номер и дата удостоверения | L2: ПОВЫШЕНИЕ КВАЛИФИКАЦИИ: учреждение, количество часов,название курса | M2: Переподготовка (специальность по диплому, наименование учреждения, год окончания, в порядке получения) | N2: Классное руководство (указать класс) | O2: Звания и награды | P2: Адрес электронной почты | Q2: Контактный номер телефона
A3: 2 | B3: Абдуллаева Татьяна Витальевна | C3: 31582 | D3: 8218075537 | E3: учитель русского языка и иностранного языка | F3: ДГПУ им. Р. Гамзатова, г. Махачкала | G3: 2023 | H3: учитель английского языка | I3: 6 лет | J3: первая | K3: 03.09.2022, 04 100556, р/н 468537; 15.06.2022, 052415815769, р/н 450029; 2023г. 150000343528, р/н у-136746/б | L3: ГБУ ДПО РД ДИРО, 48 часов, "Школа Минпросвещения России: новые возможности для повышения качества образования", ГБУ ДПО РД ДИРО, 36 часов, "Реализация требований обновленных ФГОС, НОО, ФГОС ООО в работе учитнля"; ФГАОУ ДПО "Академия реализации гос.политики и проф.развития работников образования Министерства просвещения Российской Федерации", 24 часа, "Организация деятельности профильных психолого-педагогических классов (групп) в ОО" | M3: - | N3: 11 | O3: - | P3: akservicea50@gmail.com | Q3: 9280493056
A4: 4 | B4: Алиева Барият Абдулгаджиевна | C4: 32722 | D4: 82 09 710158 | E4: Учитель русского языка и литературы | F4: ДГИ АТиСО | G4: 5 к | H4: Ст. вожатый | I4: 1 | N4: 6 | P4: bariyat.alieva.1989@bk.ru | Q4: 9640079835
A5: 6 | B5: Алиева Мая Айгумовна | C5: 19220 | D5: 8202736551 | E5: Учитель родного языка и литературы.Учитель русского языка и литературы. | F5: ДГУ | G5: 1988 | H5: Учитель родного языка и литературы | I5: 49 | J5: Высшая | N5: 9кл | O5: Заслуженный учитель РД.Почетный работник РД. | P5: maya.aliyeva.52@mail.ru | Q5: 9886517084
A6: 24 | B6: Исмаилова Сабият Сунгуровна | C6: 21945 | D6: 8209855568 | E6: Учитель русского языка и литературы | F6: ДГУ ФИЛОЛ.ФАКУЛЬТЕТ | G6: 1984 | H6: Учитель начальных классов | I6: 40 лет | J6: Высшая | K6: с 22.08.2022г. по 03.09.2022г.;с 29 марта2022г. по 12 мая 2022г. | L6: ГБУ ДПО РД "ДИРО" 48 часов "Школа Минпросвещения России":новые возможности для повышения качество образования ". "Реализация требований обновленных ФГОС НОО,ФГОС ООО в работе учителя. | N6: 3 | O6: Почетный работник РФ | P6: Sabiyatismailova1960@gmail.com | Q6: 9633753992
A7: 39 | B7: Омарова Патимат Абдуллаевна | C7: 29520 | D7: 8203412582 | E7: Учитель русского языка и литературы.учитель родного языка и литературы | F7: Дагестанский государственный педагогический университет | G7: 2004 | H7: Учитель русского языка и литературы,родного языка и литературы | I7: 19 | J7: Высшая | K7: 45247 | L7: ДИРО 72 часа | M7: Читательская грамотность | N7: 8в | P7: Omarovapatya80@mail.ru | Q7: 9285413031
A8: 46 | B8: Халикова Джамилат Курбановна | C8: 27456 | D8: 8220349589 | E8: учитель родного языка и литературы, русского языка и литературы | F8: ДГПУ.г.Махачкала | G8: 1997 | H8: учитель русского языка и литературы | I8: 27 | J8: высшая | K8: 490151 с 26.10.2023г. по 03.11.2023г. в объеме 36 ч.в ГБУ ДПО РД"ДИРО" | L8: "Сложные вопросышкольного курса р.яз.Методика оьучения написанию сочинений" | M8: менеджер образования.р/н.156805 г.Смоленск 2022г. | O8: Отличник образования РД приказ1552 2019 ветеран труда | P8: halikova.d75@gmail.com | Q8: 9285989363
A9: 47 | B9: Чамкурова Салимат Магомедгаджиевна | C9: 33557 | D9: 8216842996 | E9: Учитель русского языка и литературы | F9: ДГПУ г.Махачкала | G9: 2014г | H9: Учитель русского языка и литературы | I9: 9 лет | K9: 04100502 03.09.2022г | L9: РД "ДИРО" 48ч. "Школа Минпросвещения России ": новые возможности для повышения качества образования " | N9: 10кл | P9: nice.salimat@list.ru | Q9: 9389869975
A10: 49 | B10: Рабаданова Рукият Гусеновна | C10: 28494 | D10: 8222808850 | E10: ,учитель русского и родного языка и литературы | F10: ДГУ ,г Махачкала | G10: 2001 | H10: Учитель русского языка и литературы | I10: 23 года | J10: Высшая | N10: 6 класс | P10: rukiyat_rabadanova@icloud.com | Q10: 9640122587
A11: 55 | B11: Магомедова Майрусат Исагаджиевна | C11: 22616 | D11: 8211104977 | E11: Учитель русского языка и литературы | F11: ДГУ , факультет русского языка и литературы | G11: 1987 | H11: Учитель русского и родного языка и литературы | I11: 35 | J11: высшая | K11: 2024 | N11: 8класс | O11: почетный учитель | P11: mairusat61@mail.ru | Q11: 89884210375
A12: 61 | B12: Магомедова Тайбат Багандалиевна | C12: 24833 | D12: 8212281004 | E12: учитель русского языка и литературы, родного языка и Дагестанской литературы | G12: 1990 | H12: учитель русского языка и литературы, родного языка и Дагестанской литературы | I12: 19 | J12: Высшая | K12: 2024, 15 октября | P12: taybat.magomedova.1967@mail.ru | Q12: 9280482395
A13: 7 | B13: Багандова Суганат Магомедгаджиевна | C13: 29851 | D13: 8203-593442 | E13: русского яз. и литер. родного яз. и литер | F13: ДГУ | G13: 2003 | H13: учитель русского языка и литературы | I13: 21/21 | J13: высшее | K13: 2023г. № 04122373 от 10.10.23г. По 18.10.23г.. ; 2022г. № 150000114668 12.05. | L13: ГБУ ДПО РД "ДИРО" 36ч. "Сложные вопросы школьного курса русского языка .Методика обучения написанию сочинений в рамках ЕГЭ" ГБУ ДПО РД "ДИРО" 72ч. "Совершенствование методических компетенций учителей русского языка и литературы" ; Москва "Академия реализации государственной политикии профессионального развития работников образования Министерства РФ 36ч. №Реализация требований обновленных ФГОС НОО в работе учителя" | N13: 8б | P13: bagandova1981@bk.ru | Q13: 89285220652
A14: 11 | B14: Магомедгаджиева Раисат Магомедовна | C14: 25546 | D14: 8202-725488 | E14: учитель русского языка и литературы | F14: ДГПИ | G14: 1992 | H14: учитель русского языка и литературы | I14: 32/32 | J14: высшая | K14: 2020г. №04067349 26.12.2020г;.25.099.2023г. № 292097; | L14: ГБУ ДПЛ РД "ДИРО" 108ч. "Реализация ФГОС оснорвного общего образования при обучении языку и изучении литературы" г.Ижевск 144ч. " Реализация требований обновленных ФГОС ООО ,ФГОС СОО , ФГОС НОО в работе учителя русккого языка и литературы" | N14: 9а | O14: "Отличник образования РД" от 02.08.2021г. | P14: RaisatM69@mail.ru | Q14: 89285401230
B15: Магомедалиева Марьям Багандалиевна | C15: 26490 | D15: 8208-568815 | E15: учитель русского языка и литературы | F15: ДГПУ | G15: 1995 | H15: учитель русского языка и литературы | I15: 24/24 | J15: соответствие | K15: 2020г. № 04067348 от 26.12.; 2021г. №04067348 ; 2022г. № 150000117108 12.05.2022г. | L15: ГБУ ДПО РД "ДИРО" 108 ч. "Реализация ФГОС основного общего образования при обучении русского языка и изучени литературы", ГБУ ДПО РЛ "ДИРО" 108ч. ; Москва 36.ч. "Реализация требований обновленных ФГОС НОО,ФГОС ООО в работе учителя" | P15: magomedalieva_72@mail.ru | Q15: 89280476630
A16: 20 | B16: Ибрагимова Аминат Магомедовна | C16: 25495 | D16: 8210-905151 | E16: филолога. в нац. род. дарг. яз и лит. русс яз и лит в нац школ | F16: ДГУ | G16: 1995 | H16: учитель русского языка и литературы | I16: 37/37 | J16: соответствие | K16: 2021г.1200290153; 2021г. №040000356887 от 10.12; | L16: "НИКО"Москва 36 ч. "Русский язык.Эффективные методы повышения качества педагогической работы в школах для достижения высокого профессионального мастерства"; Москва "Академия реализации государственной политикии профессионального развития работников образования Министерства РФ" 100ч. "Школа современного учителя русского языка" | N16: 11 | P16: aminat_ibragimova_69@mail.ru | Q16: 89288729109
A17: 31 | B17: Исаева Раисат Алигаджиевна | C17: 32517 | D17: 8208-619645 | E17: учитель русского языка и литературы | F17: ДГПУ | G17: 2013 | H17: учитель русского языка и литературы | I17: 12/12 | J17: соответствие | P17: raiska.09011989@gmail.com | Q17: 89285161317
A18: 33 | B18: Магомедова Сакинат Магомедгаджиевна | C18: 33138 | D18: 8210-871914 | E18: Филолог. предподователь по специальности "Филолог" | F18: ДГУ | G18: 2013 | H18: учитель русского языка и литературы | I18: 9/9 | J18: соответствие | K18: 2020г. №04067354 от 26.12.; .2022г.№150000117360 от 12.05.2022г. | L18: ГБУ ДПО РД "ДИРО" 108ч. ""Реализация ФГОС основного общего образования при обучении русского языка и изучени литературы" Москва 36.ч."Реализация требований обновленных ФГОС НОО,ФГОС ООО в работе учителя" | P18: sakinatmagomedova477@gmail.com | Q18: 89064506755
A19: 37 | B19: Гаджиева Аминат Курбанмагомедовна | C19: 33563 | D19: 8206-154604 | E19: русский язык литература | F19: ДГПУ | G19: 2013 | H19: учитель русского языка и литературы | I19: 15/15 | J19: высшая | K19: 2020г.№040000182481 от 10.12.2020г; 2022г. №150000115063 | L19: "Академия реализации государственной политикии профессионального развития работников образования Министерства просвещения РФ Москва "" Формирование ИКТ-грамотности школьников"72ч; Москва "Академия реализации государственной политикии профессионального развития работников образования Министерства РФ 36ч. Реализация требований обновленных ФГОС НОО в работе учителя" | N19: 7б | P19: aminat.gadzhieva.1991@mail.ru | Q19: 89289610888
A20: 17 | B20: Исрапова Калимат Магомедовна | C20: 21575 | D20: 82 03-627699 | E20: Учитель русского языка и литературы | F20: ДГПИ | G20: 1984 | H20: учитель русского языка и литературы | I20: 38/38 | J20: высшая | K20: 2021,040000356901,10.12.2021 | L20: АРГППРРО "ШСУ" г.Москва | N20: 9 класс | O20: Почётный работник общего образования РФ | P20: kalimat.israpova@yandex.ru | Q20: 89285699005
A21: 18 | B21: Омарова Джуйрат Сапаровна | C21: 21146 | D21: 82 03-039109 | E21: Учитель русского языка и литературы | F21: ДГПИ | G21: 1981 | H21: учитель русского языка и литературы | I21: 40/40 | J21: высшая | K21: 2021,040000356952, 10.12.2021 | L21: АРГППРРО "ШСУ" г.Москва | N21: 6 класс | P21: juirat.omarowa@yandex.ru | Q21: 89285432650
A22: 51 | B22: Халикова Джамилат Курбановна | C22: 27456 | D22: 82 20-349589 | E22: Учитель русского языка и литературы | F22: МЦПК | G22: 2023 | H22: Учитель русского языка и литературы | I22: 25/25 | J22: высшая | P22: halikova.d75@gmail.com | Q22: 9285989363
A23: 11 | B23: Гаджиева Мариям Гаджиалиевна | C23: 01.01.1981г | D23: 8203098757 | E23: филолог.преподователь русского языка илитературы | F23: ДГУ | G23: 2004г | H23: учитель русского языка | I23: 22 | J23: вышее | K23: 5050.ПК0150004.2022г. | L23: 108часов.Академия "Каспий" | M23: Преподователь русского языка и лит | P23: marjiam.gadjieva@gmail.com | Q23: 8982507029
A24: 17 | B24: Табанова Аминат Магомедовна | C24: 15.03.1986г. | D24: 8203098757 | E24: филолог.преподователь русского языка илитературы | F24: ДГУ | G24: 2005г. | H24: учитель русского языка | I24: 1 | P24: tabanovaaminat@gmail.ru | Q24: 89898951485
A25: Абидова Умагабидат Магомедгаджиевна | B25: 21290 | C25: 82 03 507465 | D25: Родной язык и литература, русский язык и литература | E25: ДГУ | F25: 1983 | G25: учитель родного языка и литературы | H25: 48/48 | I25: соответствие | J25: 2021г., №050400009160 | K25: НАНО ДПО ОЦ ЗНАНИЕ 108 часов, "Реализация требований ФГОС ООО при обучении родному (даргинскому) языку и литературе | O25: abidova@mail.ru | P25: 89064806149
A26: Ашурлаева Гидаят Курбановна | B26: 22710 | C26: 82 07 282972 | D26: русский язык и литература | E26: ДГПИ | F26: 1994 | G26: учитель русского языка и литературы | H26: 46/40 | I26: высшая | J26: 2022г., №150000114609 | K26: ФГАОУ ДПО АРГППРРО РФ,36 часов, "Реализация требований обновленных ФГОС НОО, ФГОС ООО в работе учителя" | M26: 7 | O26: gashurlaeva@bk.ru | P26: 89640532481
A27: Магомедгаджиева Сапият Магомедовна | B27: 30796 | C27: 82 11 177583 | D27: Родной язык и литература | E27: ДГПУ | F27: 2012 | G27: учитель родного языка и литературы | H27: 17/17 | I27: соответствие | J27: 2019г., №052408673162, 2022г., №052415815911 | K27: АНО ДПО ЦПК "Сфера" 146 часов, "Методика преподавания родного языка и литературы в условиях реализации ФГОС", ГБУ ДПО РД "ДИРО" 36 часов, "Реализация требований обновленных ФГОС НОО, ФГОС ООО в работе учителя" | M27: 8 | O27: sapiyt1989@mail.ru | P27: 89634259020
A28: Ниматуллаев Ислам Русланович | B28: 38500 | C28: 82 19 327104 | D28: Педагогическое образование | E28: ДГПУ | F28: 2022 | G28: учитель русского языка и литературы | H28: 6./6 | I28: соответствие | O28: opopopopopop19@mail.ru | P28: 89827168094
A29: Хизриева Зубайдат Магомедовна | B29: 30458 | C29: 82 03 552477 | D29: русский язык и литература | E29: ДГПУ | F29: 2005 | G29: учитель русского языка и литературы | H29: 19/19 | I29: высшая | J29: 2022г., № 050400010943 | K29: АНО ДПО ОЦ СПЕКТР, 72 часа, "Реализация требований обновленных ФГОС НОО, ФГОС ООО в работе учителя" | L29: Региональный межвузовский центр коррекционного образования при ДГПУ,Педагогика-психология 2006г. | M29: 7 | N29: Кандидат наук, 2012г | O29: zubaidat19832017@yandex.ru | P29: 89640159011
A30: Магомедгаджиев Саид Асадуллаевич | B30: 31576 | C30: 8206134761 | D30: русский язык и литература | E30: ДГПУ | F30: 2009 | G30: учитель русского языка и литературы | H30: 15/15 | I30: соответствие | M30: 9 | O30: Said1386@mail.ru | P30: 89640088922
A31: 10 | B31: Кадырова Айша Кадыровна | C31: 32155 | E31: филолог | F31: ДГУ | G31: 2011 | H31: учитель русского языка и литературы | I31: 14/14 | J31: вторая | K31: 2024 | P31: asiyat.ahmedova.83@mail.ru | Q31: 89064473345
B32: Кадырова Айша Кадыровна | C32: 32155 | E32: филолог | F32: ДГУ | G32: 2011 | H32: учитель информатики | I32: 14/14 | J32: вторая | K32: 2024 | P32: asiyat.ahmedova.83@mail.ru | Q32: 89064473345
B33: Кадырова Айша Кадыровна | C33: 32155 | E33: филолог | F33: ДГУ | G33: 2011 | H33: учитель нач.кл. | I33: 14/14 | J33: вторая | K33: 2024 | P33: asiyat.ahmedova.83@mail.ru | Q33: 89064473345
A34: 7 | B34: Каландарова Хадижат Даудовна | C34: 17528 | D34: 82 03 097746 | E34: учитель русского языка и литературы | F34: ДГПИ | G34: 1976 | H34: учитель русского языка и литературы | I34: 53/53 | J34: вторая | P34: asiyat.ahmedova.83@mail.ru | Q34: 89034806373
A35: 16 | B35: Султанахмедова Загидат Азизовна | C35: 36066 | D35: 8218122133 | E35: Филолог | F35: ДГУ | G35: 2020 | H35: Преподаватель русского языка и литературы | I35: 3/3 | K35: 2022г, №450287 | L35: ГБУ ДПО РД ДИРО, 36ч, "Реализация требований обновленных ФГОС НОО, ФГОС ООО в работе учителя" | N35: 10 | P35: zagidatsultsnshmedova@gmail.com | Q35: 89388029519
A36: 20 | B36: Исаева Зарема Багандовна | C36: 36468 | D36: 8219299346 | E36: Филолог | F36: ДГПУ | G36: 2022 | H36: Преподаватель русского языка и литературы | I36: 1 | N36: 6 | P36: zarema.omarova.9900@mail.ru | Q36: 89292655618
A37: 22 | B37: Исаева Гулеймат Магомедовна | C37: 33053 | D37: 8210880081 | E37: Филолог | F37: ДГУ | G37: 2014 | H37: Преподаватель русского языка и литературы | I37: 0 | P37: isaevagula590@gmail.com | Q37: 89285902660
B38: Исакова Патимат Магомедовна | E38: 26338 | F38: 8216-897650 | G38: русский язык и литература в национальной школе; оператор ПЭВМ; педагог - психолог; | H38: ДГПИ,образовательный центр "Компьютерные технологии", ДГПУ | I38: 1992 | J38: учитель русского языка и литературы | K38: 32/32 | L38: соответствие | M38: 2021 (дистанц.обучение) №5197; 2022-№ у 106219/б с 29.03.2022 - 12.05.2022; | N38: ДИРО - 185ч,"Совершенствование профессиональных компетенций учителей русского языка и литературы";ДИРО - 36 ч."Реализация требований обновленных ФГОС НОО,ФГОС ООО в работе учителя" | O38: Оператор ПЭВМ Образовательный центр "Компьютерные технологии", - 2004; Педагог - психолог ДГПУ - 2006; | Q38: 0 | R38: veevftd@mail.ru | S38: 89285443948
B39: Рабаданова Патимат Нурбагандовна | E39: 18788 | F39: 8202-676377 | G39: русский язык и литература | H39: ДГУ | I39: 1982 | J39: учитель русского языка и литературы | K39: 53/53 | L39: соответствие | M39: 2018 | Q39: 0 | R39: nariman1108@mail.ru | S39: 89285065569
A40: 18 | B40: Раджабова Патимат Курбанисмаиловнавна | E40: 24316 | F40: 8203-662705 | G40: преподавание в начальных классах,филология | H40: Буйнакское педагогическое училище,ДГУ | I40: 1987.1995 | J40: учитель русского языка и литературы | K40: 37/37 | L40: соответствие | M40: 2020 № 0182 с 17.01.2020г.- 07.02.2020 г | N40: МЦПК "Каспий"- 108ч."Реализация ФГОС на уроках русского языка и литературыв общеобразовательных организациях и среднего профессионльного образования; | Q40: 0 | R40: patimat090651@mail.ru | S40: 89285570461
B41: Магомедов Магомедсалам Рабаданович | C41: 29903 | D41: 8201576106 | E41: Филология | F41: ДГУ | G41: 2004 | H41: Учитель русского языка и литературы | I41: 20 | J41: соответствие | K41: 2022 г. № | L41: ГБУ ДПО РД "ДИРО","Реализация требований обновленных ФГОС НОО и ФГОС ООО в работе учителя", 72 часа | P41: sterilizator01@mail.ru | Q41: 8928-962-08-00
...

Sheet родной язык 
A1: № | B1: ФИО | C1: Дата рождения | D1: Серия, номер паспорта | E1: Специальность по ДИПЛОМУ (перечислить все в порядке получения) | F1: Что окончил (перечислить все в порядке получения) | G1: Год окончания (перечислить все в порядке получения) | H1: Должность работника, преподав. предмет (сколько долж-й - столько раз показать человека) | I1: Стаж педагогической/общий | J1: Квалификационная категория | K1: ПОВЫШЕНИЕ КВАЛИФИКАЦИИ: Год прохождения КПК (за последние 3 года) , номер и дата удостоверения | L1: ПОВЫШЕНИЕ КВАЛИФИКАЦИИ: учреждение, количество часов,название курса | M1: Переподготовка (специальность по диплому, наименование учреждения, год окончания, в порядке получения) | N1: Классное руководство (указать класс) | O1: Звания и награды | P1: Адрес электронной почты | Q1: Контактный номер телефона
B2: 1 | C2: 2 | D2: 3 | E2: 4 | F2: 5 | G2: 6 | H2: 7 | I2: 8 | J2: 9 | K2: 10 | L2: 11 | M2: 12 | N2: 13 | O2: 14 | P2: 15 | Q2: 16
A3: 6 | B3: Алиева Мая Айгумовна | C3: 19220 | D3: 8202736551 | E3: Учитель родного языка и литературы.Учитель русского языка и литературы. | F3: ДГУ | G3: 1988 | H3: Учитель родного языка и литературы | I3: 49 | J3: Высшая | N3: 9кл | O3: Заслуженный учитель РД.Почетный работник РД. | P3: maya.aliyeva.52@mail.ru | Q3: 9886517084
A4: 41 | B4: Рабаданова Загидат Омаровна | C4: 29855 | D4: 8206 203540 | E4: Учитель род яз лит | F4: ДГПУ | G4: 2004 | H4: Учитель род яз и лит | I4: 21 | N4: 7 класс | P4: zagidatrabadanova65@gmail.com | Q4: 9640213001
A5: 21 | B5: Абдуллаева Барият Гизбуллаевна | C5: 25476 | D5: 8203-309200 | E5: педагогика и методика начального обучения | F5: ДГПИ | G5: 1994 | H5: учитель родных языков | I5: 27/27 | J5: соответствие | K5: 2022г.№ 150000113472 от 12.05.2022г. | L5: Москва "Академия реализации государственной политикии профессионального развития работников образования Министерства РФ 36ч. Реализация требований обновленных ФГОС НОО в работе учителя" | P5: Bariyat_abd@bk.ru | Q5: 89288726076
A6: 19 | B6: Магомедов Алиасхаб Магомедович | C6: 17654 | D6: 82 03-485267 | E6: Учитель родного языка и литературы | F6: ВПШ | G6: 1979 | H6: учитель родных языков | I6: 25/39 | J6: соответствие | K6: 0524032906090,05.12.2015 | L6: УДПО "МЦПК", г. Махачкала | O6: Почётный работник общего образования РФ | P6: aliashab.magomedoff2017@yandex.ru | Q6: 89285718524
A7: Магомедгаджиева Сапият Магомедовна | B7: 30797 | C7: 83 11 177583 | D7: Родной язык и литература | E7: ДГПУ | F7: 2013 | G7: учитель ОДНКНР | H7: 17/17 | I7: соответствие | M7: 8 | O7: sapiyt1989@mail.ru | P7: 89634259020
A8: 11 | B8: Магомедов Магомед Малламагомедович | C8: 29899 | D8: 8203573565 | E8: Филолог | F8: ДГУ | G8: 2003 | H8: Преподаватель родных языков | I8: 20/20 | K8: 2020г. №3147 | L8: НАНО ДПО ОЦ "ЗНАНИЕ" 72ч., "Реализация требований ФГОС основного общего образования при обучении родному (даргинскому) языку и литературе | P8: magomed19.81@mail.ru | Q8: 89285159495
B9: Набиева Айшат Рабадановна | E9: 17748 | F9: 8201-572751 | G9: филолог; русский язык и литература,родной язык и литература;менеджмент в образовании | H9: ДГУ,ИМР "Мидл Ист" | I9: 1978 | J9: учитель родных языков | K9: 56/56 | L9: соответствие | M9: 2022-№ у 108177/б с 29.03.2022 - 12.05.2022; | N9: ДИРО - 36 ч."Реализация требований обновленных ФГОС НОО,ФГОС ООО в работе учителя" | O9: Менеджмент в образовании ИМР "Мидл Ист" - 2017 | P9: . | R9: ayshat030748@mail.ru | S9: 89285625575
A10: 7 | B10: Исмаилова Патимат Гаджиисламовна | E10: 27923 | F10: 8299-151033 | G10: родной язык и литература | H10: ДГПУ | I10: 2010 | J10: учитель родных языков | K10: 14/14. | L10: соответствие | M10: 2019,№ 00 016800/19 с 28.09.2019 по 19 октябрь 2019 г. | N10: ООО"Центр Развития Педагогики"-108ч. "Методы и технологии в преподавании учебных дисциплин "Родной язык" и "Родная литература " в соответствии с ФГОС | O10: . | P10: 1 | Q10: 0 | R10: patimat021957@mail.r | S10: 89289779124
A11: 16 | B11: Магомедова Патимат Хидировна | C11: 26811 | D11: 82 08 450797 | E11: Филология | F11: ДГУ | G11: 1998 | H11: Учитель родного языка и лит. | I11: 32 | J11: соответствие | N11: 1 А | P11: patimat.magomedova.1973@list.ru | Q11: 8962-645-20-83
A12: 21 | B12: Рабаданова Барият Курбановна | C12: 23078 | D12: 8203573569 | E12: Филология | F12: ДГУ | G12: 1995 | H12: Учитель родного языка и лит. | I12: 36 | J12: соответствие | K12: 2022 г., ПК 013223 от 18.07.2022 г. | L12: ЧУДПО "Махачкалинский центр повышения квалификации- Академия "Каспий", "Реализация требований обновленных ФГОС НОО и ФГОС ООО в работе учителя", 72 часа | N12: 7 А | P12: bariyat.rabadanova.63@bk.ru | Q12: 8960-407-92-48
A13: 22 | B13: Меджидова Аминат Рамазановна | C13: 32802 | D13: 8203648501 | E13: Пр. в н.кл. с доп. под родн. яз | F13: ИПК | G13: 2008 | H13: Учитель родного языка и лит. | I13: 15 | J13: соответствие | N13: 8 А | P13: aminat.medzhidova-89@bk.ru | Q13: 8963-404-34-79
A14: Баталаева Габибат Курбанмагомедовна | D14: 21339 | E14: 8209-806135 | F14: учитель русского и родного языка | G14: ДГУ | H14: 1983 | I14: учитель родного языка | J14: 30/44 | K14: соответствие | L14: 2022,№ПК010913,22.02.2022 | M14: Махачкала,ОЦ КАСПИЙ | P14: gabibat.batalaeva | Q14: 89679341084
A15: 7 | B15: Абдуллаева Хамис Гаджимурадовна | C15: 35468 | D15: 8218-102815 | E15: Начальные классы | F15: ИПУ | G15: 2019 | H15: Учитель родного языка и литературы | I15: 3 | P15: hamisabdullaeva471@gmail.com | Q15: 89674006765
A16: 8 | B16: Юсупов Рамазан Табукович | C16: 21285 | D16: 8203-265384 | E16: Филолог | F16: ДГУ | G16: 1986 | H16: Учитель родного языка и литературы | I16: 47 | N16: 9а | P16: ramazanusupov365@gmail.com | Q16: 89640050481
B17: Абубакарова Ума Идрисовна | C17: 23391 | D17: 8209667610 | E17: Учитель русского языка и литературы | F17: ДГПИ | G17: 1988 | H17: учитель род.яз. и лит.,русс.яз. и лит. | I17: 43\43 | K17: 2022,№052415815778,15.06.2022г. | L17: Реализация требований обновленных ФГОС НОО,ФГОС ООО в работе учителя, 36ч. | P17: abubakarova.uma@bk.ru | Q17: 89285659000
A18: 2 | B18: Шахвалиева Урузмак Гусейновна | E18: 12.02.1954г | F18: 82 00 264344 | G18: учитель русского языка и литературы | H18: ДГПУ | I18: 1996 | J18: учитель,родной язык и литература | K18: 49. | L18: 1 | M18: 2019г, 051493 с 03.07.2019 по 12.07.2019 | N18: г.Махачкала,ДИРО | P18: Заслуженный учитель Дагестана | Q18: curuzmak@mail.ru | R18: 89627745025
A19: 17 | B19: Азизова Аминат Хабибовна | C19: 24138 | D19: 8210959098 | E19: уч рус яз и лит | F19: ДГУ | G19: 1983 | H19: уч родного языка и лит | I19: 36 | J19: высшая | P19: aagkavkasohs@mail.ru | Q19: 89640122570
A20: 22 | B20: Алигаджиева Айшат Ахмедгаджиевна | C20: 23380 | D20: 8208597 | E20: уч нач классов | F20: РПК | G20: 2016 | H20: уч родного языка и лит | I20: 38/38 | J20: первая | M20: ООО "АКАДЕМИЯ ГОСАТТЕСТАЦИИ"2020г,уч родного языка и литературы,256ч | P20: aaakavkasohs@mail.ru | Q20: 89298776483
A21: 24 | B21: Магомедова Зайнаб Ризвановна | C21: 33525 | D21: 8218197236 | E21: уч нач классов | F21: РПК | G21: 2011 | H21: уч родного языка и лит | I21: 11 | J21: соответсвие | P21: z5791931z@mail.ru | Q21: 89285304426
B22: Маммаева Мадина Юсуповна | C22: 36215 | D22: 8218142055 | E22: учитель начальных классов | F22: ГБПОУ РД"ППК им М.М.Меджидова" | G22: 2021 | H22: Учитель родного языка и литературы | I22: 1из1 | J22: соответствие | K22: нет | L22: нет | M22: нет | N22: 4 | O22: нет | P22: Mmadina99@mail.ru | Q22: 89187369083
B23: Шахбанова Нурият Магомедовна | C23: 28402 | D23: 8207053491 | E23: учитель начальных классов | F23: ГБПОУ РД"ППК им М.М.Меджидова" | G23: 2022 | H23: Учитель родного языка и литературы | I23: 3из26 | J23: соответствие | K23: нет | L23: нет | M23: нет | N23: 1 | O23: нет | P23: nuriat04101977@mail.ru | Q23: 89640096344
B24: Ибрагимова Мариям Магомедовна | E24: 21860 | F24: 8203/421560 | G24: биология, химия | H24: ДГПИ | I24: 1984 | J24: учитель.родной язык и литература | K24: 40/40 | L24: нет категории | O24: 10 | Q24: mariyam.ibragimova.59@mail.ru | R24: 89282862139
B25: Магомедова Рукият Алигаджиевна | E25: 28330 | F25: 8222/631277 | G25: филолог; | H25: ДГПУ | I25: 1999 | J25: учитель,родной язык и литература | K25: 25/25 | L25: нет категории | O25: 9 | Q25: rukiyat.magomedova.1977@mail.ru | R25: 89282507919
A26: 14 | B26: Абдуллаева Нурият Ризвановна | E26: 32588 | F26: 8208/641003 | G26: фиолог | H26: ДГУ | I26: 2011 | J26: учитель, родной язык и литература | K26: 13/13 | L26: первая | M26: ГБУ ДПО РД "ДИРО "Реализация требований обновленных ФГОС НОО, ФГОС ООО в работе учителя" №450028 36 ч. 2022г | O26: 8 | Q26: nuriyat.rizvanovna@mail.ru | R26: 89285606579
A27: 15 | B27: Даудова Патимат Магомедгаджиевна | E27: 32256 | F27: 8202/545350 | G27: биолог | H27: ДГПУ | I27: 2010 | J27: учитель,родной язык и литература | K27: 13/13 | L27: первая | M27: ФГАОУДПО "Академ. Реал. Госуд. Пол.и проф. Разв. Раб.обр. мин.прос.Рф2020, №у-20236/б, 112ч | Q27: daudovapatimat1998@mail.ru | R27: 89280554967
B28: Гусбанова Муъминат Ибаевна | C28: 28430 | D28: 8203 063197 | E28: Высшее | F28: ДГУ | G28: 2000 | H28: Родной язык | I28: 24/26 | J28: соответствие | L28: Не проходила | N28: 9кл | P28: muminat.gusbanova@yandex.ru | Q28: 89288791880
B29: Ашурлаев Гаджи Магомедович | C29: 34819 | D29: 8214 651647 | E29: 44.02.02 Преподавание в начальных классах | F29: РПК | G29: 2016 | H29: Учитель родного языка и родной литературы | I29: 7/7 | J29: - | K29: 2022, № 450069, 15.06.2022 | L29: ГБУ ДПО РД "ДИРО", 36 ч., Реализация требований обновлённых ФГОС НОО, ФГОС ООО в работе учителя | M29: - | N29: 5 | O29: - | P29: ibr-i@bk.ru | Q29: 89994022958
A30: 11 | B30: Маммаева Хадижат Ахмедбеговна | C30: 37058 | D30: 8221 494246 | E30: 44.02.02 Преподавание в начальных классах | F30: ППК | G30: 2023 | H30: Учитель родного языка и родной литературы | I30: 2/2 | J30: - | K30: - | L30: - | M30: - | N30: - | O30: - | P30: ibr-i@bk.ru | Q30: 89995337999
A31: 2 | B31: Алиева Рисалат Омаргаджиевна | C31: 21467 | D31: 82 06 123041 | E31: Учитель англ. и нем.яз.; учитель родного языка и литературы | F31: ДГПИ; УДПО "Махачкалинский центр повышения образования" | G31: 1982; 2016 | H31: учитель родных языков | I31: 40/40 | K31: 2022г., № 050400010872 от 15.10.2022г. | L31: АНО ДПО ОЦ Спектр, 72ч., "Реализация требований ФГОС основного общего образования при обучении родному (даргинскому) языку и литературе. | M31: "Педагогическое образование: Родной язык и литература" , УДПО "Махачкалинский центр повышения квалификации" от 13.09.2016г, № 052402541066, , | N31: 6 | P31: alieva1958risalat@mail.ru | Q31: 8928 560 22 75
A32: 6 | B32: Дабаева Патимат Курбановна | C32: 25477 | D32: 8203669887 | E32: учитель химии | F32: ДГУ | G32: 1995 | H32: учитель начальных классов | I32: 29 | J32: высшая | K32: "Использование оборудоания региональных центровв детского технопарка "Кванториум" и центра "Точка роста" для реализации образовательных программ по химии в рамках естественно-научного направления" с 25 мая 2021г. По 25 июня 2021г. 040000308778 Совершенствование деятельности учителя начальных классов в соответствии с требованиями ФГОС 2019, №871. 25.03.2019 по 13.04.2019 | M32: НАНО ДПО ОЦ "Знание" | N32: 3.5 | P32: nach.patimat@mail.ru | Q32: 89285759363
A33: 9 | B33: Айсамирзаева Удреда Магомедовнв | C33: 29238 | D33: 82 13 381629 | E33: педагогика и методика начального образования | F33: ДГПУ | G33: 2008 | H33: учитель начальных классов | I33: 16 | J33: соответствие | K33: Совершенствование деятельности учителя начальных классов в соответствии с требованиями ФГОС 2019, №869. 25.03.2019 по 13.04.2019 | M33: НАНО ДПО ОЦ "Знание" | N33: 2 | P33: Iva04091@gmail.com | Q33: 89286841143
A34: 17 | B34: Гаджиалиева Сакинат Абдуллаевна | C34: 18507 | D34: 82 02 801889 | E34: учитель начальных классов | F34: ПУ | G34: 1990 | H34: учитель начальных классов | I34: 39 | J34: соответствие | K34: 2019, №870. 25.03.2019 по 13.04.2019 | M34: НАНО ДПО ОЦ "Знание" | N34: 4.1 | P34: megafon.levashi8888@gmail.com | Q34: 89285817042
A35: 32 | B35: Магомедова Луиза Магомедовна | C35: 29322 | D35: 8201-574785 | E35: филология. Русский язык и литература, национальный язык и литературы | F35: ДГУ | G35: 2002 | H35: учитель родного языка и литературы | I35: 22 | K35: 2023, № ПК 015794, 10.01.2023 | L35: МЦ ПК Академия "Каспий", 108 ч. | P35: luizamugi1980@mail.ru | Q35: 89286708119
A36: 38 | B36: Муртазалиева Рукият Омаровна | C36: 27579 | D36: 8201-574343 | E36: филология | F36: ДГПУ | G36: 1997 | H36: учитель родного языка и литературы | I36: 26 | K36: 2023, № 000000061823, 26.07.2023 | L36: АНО ДПО "Платформа", 144 ч. | N36: 6 | P36: rukiyat75@mail.ru | Q36: 89288095274
B37: Абдулгапарова Хадижат Гасаналиевна | C37: 22055 | D37: 8203 880755 | E37: учитель родного языка и литературы | F37: ДГУ | G37: 1984 | H37: учитель родного языка и литературы | I37: 42/42 | J37: Высшая | O37: «Почетный работник общего образования РФ» | P37: khadizhatabd@mail.ru | Q37: 89094823857
A39: 5 | B39: ва Патимат Ильясовна | C39: 29354 | D39: 8202763097 | E39: учитель начальных классов с правом преподдования обществознания | F39: ЮЖДАГ | G39: 2007 | H39: учитель родного языка и литературы и обществознания | I39: 17/17 | J39: нет | K39: 2022,№ 450235; 15.06.2022 | L39: реализация требований обновленных ФГОС НОО,ФГОС ООО в работе учителя 3 | M39: нет | N39: 9 | O39: нет | P39: patimatmedzidova88@gmail.com | Q39: 89282080806
B40: Мамаев Магомед Халилибрагимович | C40: 09,08,1961 | D40: 8206-184824 | E40: филология | F40: ДГУ | G40: 2019, 1984 | H40: учитель родного языка | I40: 42/42 | K40: 14.10.2023 05040005831 | L40: АНО ДПО ОЦ СПЕКТР, 72 ч.
B41: Саламов Алибег Ашурлаевич | C41: 30321 | D41: 8203-853834 | E41: учитель родного языка и литературы | F41: ДГУ | G41: 2005 | H41: учитель родного языка и литеопатуры | I41: 18. | J41: 1 | N41: 9 | P41: 1983alibeg1983@list.ru | Q41: 89285136298
...

Sheet математика
A1: № | B1: ФИО | C1: Дата рождения | D1: Серия, номер паспорта | E1: Специальность по ДИПЛОМУ (перечислить все в порядке получения) | F1: Что окончил (перечислить все в порядке получения) | G1: Год окончания (перечислить все в порядке получения) | H1: Должность работника, преподав. предмет (сколько долж-й - столько раз показать человека) | I1: Стаж педагогической/общий | J1: Квалификационная категория | K1: ПОВЫШЕНИЕ КВАЛИФИКАЦИИ: Год прохождения КПК (за последние 3 года) , номер и дата удостоверения | L1: ПОВЫШЕНИЕ КВАЛИФИКАЦИИ: учреждение, количество часов,название курса | M1: Переподготовка (специальность по диплому, наименование учреждения, год окончания, в порядке получения) | N1: Классное руководство (указать класс) | O1: Звания и награды | P1: Адрес электронной почты | Q1: Контактный номер телефона
B2: 1 | C2: 2 | D2: 3 | E2: 4 | F2: 5 | G2: 6 | H2: 7 | I2: 8 | J2: 9 | K2: 10 | L2: 11 | M2: 12 | N2: 13 | O2: 14 | P2: 15 | Q2: 16
A3: 13 | B3: Будайчиева Зухра Магомедовна | C3: 22451 | D3: 8206134389 | E3: преподаватель математики | F3: ДГУ Махачкала | G3: 1984 | H3: учитель математики , педагог библиотекарь | I3: 40 | N3: 11а | O3: почётный работник РФ | P3: budaichieva zukhra@mail.ru | Q3: 9280558522
A4: 27 | B4: Лукманова Зарема Ахмедовна | C4: 27183 | D4: 8219205281 | E4: Учитель математики и информатики | F4: ДГПУ г.Махачкала | G4: 1998г | H4: Учитель математики и информатики | I4: 29лет | J4: высшая | K4: 052414311971 28.08.2022г | L4: За реализации ФГОС" | N4: 5кл | P4: zarema.lukmanova74@mail.ru | Q4: 89288314957
A5: 29 | B5: Магомедов Гусейн Абдуллаевич | C5: 21386 | D5: 8203588249 | E5: Учитель математики | F5: ДГУ г.Махачкала | G5: 1981 г | H5: Учитель математики, учитель ОБЗР | I5: 41 год | J5: первая | P5: mitzkacf@supere.ml | Q5: 9285236897
A6: 8 | B6: Ахмедова Шарипат Касумовна | C6: 25830 | D6: 8202-813155 | E6: учитель математики | F6: ДГУ | G6: 1995 | H6: учитель математики | I6: 29/29 | J6: первая | K6: 2021г. №040000396466; 25.09.202132г.№ 000000079767; 25.09.2023г. № 292103 | L6: Москва "Академия реализации государственной политикии профессионального развития работников образования Министерства РФ " 100 ч. "Школа современного учителя математики"; г.Ижевск 144ч. "Совершенствование процесса преподавания математики в условиях реализации ФГОС третьего поколения" " Совершенствование процесса преподавания математики в условиях реализации фгос третьего порколения" | N6: 10б | P6: sharipatahmedova@gmail.com | Q6: 89285208820
A7: 9 | B7: Алиева Калимат Мусагаджиевна | C7: 20011 | D7: 8201-572566 | E7: учитель математика и физики | F7: ДГПИ | G7: 1976 | H7: учитель математики | I7: 48/48 | J7: соответствие | K7: 2022г.№1500001114027; 09.10.2023г. №302714; | L7: Москва "Академия реализации государственной политикии профессионального развития работников образования Министерства РФ 36ч. Реализация требований обновленных ФГОС НОО в работе учителя"г.Ижевск 144ч. " Методика и технология преподавания математики в условиях реализации обновлееных ФГОГС". | N7: 6а | O7: Почетная грамота от 23.10. 2020г. | P7: alieva_kalimat54@mail.ru | Q7: 89285400750
B8: Магомедов Курбанмагомед Магомедович | C8: 23757 | D8: 8210-957218 | E8: учитель физики и математики | F8: ДГПИ | G8: 1992 | H8: учитель математики | I8: 32/32 | J8: высшая | P8: 89288005107@mail.ru | Q8: 89034770296
A9: 19 | B9: Муртазалиева Зубалжат Гасангаджиевна | C9: 26201 | D9: 8202-759672 | E9: математика инфор . и выч.тех | F9: ДГУ | G9: 1993 | H9: учитель математики | I9: 35/35 | J9: высшая | K9: 2020г.№04066740 от 12.12.; 2022г.№052415815979 от 15.06. | L9: ГБУ ДПО РД "ДИРО" 72ч. "Организация деятельности методистов и педагогов дополнительного образования в условиях реализации ФГОС" ГБУ ДПО РД "ДИРО" 36ч. "Реализация требований обновленных ФГОС НОО,ФГОС ООО в работе учителя" | N9: 7а | P9: zubalzhat.murtazalieva@mail.ru | Q9: 89298799002
A10: 6 | B10: Мусаева Патимат Магомедсаидовна | C10: 21149 | D10: 82 03-173862 | E10: Учитель физики и математики | F10: ДГПИ | G10: 1983 | H10: учитель математики | I10: 39/39 | J10: высшая | P10: patimat.musaeva2018@yandex.ru | Q10: 89285103753
A11: 14 | B11: Абдуллабекова Шахризат Абдуллгаджиевна | C11: 32968 | D11: 82 09-833252 | E11: Учитель математики | F11: ДГПУ | G11: 2012 | H11: учитель математики | I11: 13/13 | J11: соответствие | K11: 052406992598,02.03.2018 | L11: УДПО "МЦПК", г. Махачкала | N11: 11 класс | P11: schahriz.abdullabeckova2018@yandex.ru | Q11: 89285336322
A12: 33 | B12: Мусаева Марьям Гасбуллаевна | C12: 26332 | D12: 82 16-897774 | E12: Учитель математики | F12: ДГПИ | G12: 1995 | H12: учитель математики | I12: 29/29 | J12: соответствие | K12: 2022,00003910,23.12.2021 | L12: АНОДПО "НИКО" г.Москва | N12: 8 класс | P12: ibr.mariam2017@yandex.ru | Q12: 89289505120
A13: 14 | B13: Магомедгаджиев Гусейн Ахмедович | C13: 33017 | D13: 82 10 880147 | E13: Информатика с дополнительной специальностью иностранный язык | F13: ДГПУ | G13: 2013 | H13: учитель математики | I13: 11./14 | J13: соответствие | K13: 2021г., №052414953882 2021г., №052415817643 | L13: ГБУ РД ЦНППМПР 16 часов, "Использование современных информационно-коммуникационных технологий в образовательном процессе", ГБУ РД ЦНППМПР 185 часов, "Совершенствование профессиональных компетенций учителей математики" | N13: 8 | P13: guseyn2405@mail.ru | Q13: 89674023366
A14: 27 | B14: Шарипов Курбангаджи Гаджиевич | C14: 25969 | D14: 82 15 739886 | E14: Педагогическое образование с двумя профилями подготовки | F14: ДГПУ | G14: 2022 | H14: учитель математики | I14: 12./11 | J14: соответствие | K14: 2022 №150000120169 | L14: ФГАОУ ДПО АРГППРРО РФ,36 часов, "Реализация требований обновленных ФГОС НОО, ФГОС ООО в работе учителя" | N14: 9 | P14: gadji00552@gmail.com | Q14: 89288727715
A16: 3 | B16: Омаев Шамиль Шаммадаевич | C16: 18233 | D16: 82 02 636844 | E16: учитель математики | F16: ДГПИ | G16: 1973 | H16: препод.организатор ОБЖ | I16: 56/56 | J16: вторая | N16: 10 | O16: Отличник образования РД, 2023 | P16: asiyat.ahmedova.83@mail.ru | Q16: 89640043494
B17: Омаев Шамиль Шаммадаевич | C17: 18233 | D17: 82 02 636844 | E17: учитель математики | F17: ДГПИ | G17: 1973 | H17: учитель математики | I17: 56/56 | J17: вторая | N17: 10 | O17: Отличник образования РД, 2023 | P17: asiyat.ahmedova.83@mail.ru | Q17: 89640043494
B18: Магомедова Патимат Шамиловна | C18: 35488 | D18: 8216897720 | E18: Математика | F18: ДГУ | G18: 2019 | H18: Преподаватель математики/геометрии | I18: 6/6 | N18: 7А, 7Б | P18: patyashamilovna@icloud.com | Q18: 89288320917
A19: 10 | B19: Магомедова Марзият Избуллаевна | C19: 28608 | D19: 8209687097 | E19: Преподаватель математики | F19: ДГУ | G19: 1996 | H19: Преподаватель математики/геометрии | I19: 25/25 | J19: Высшая | K19: 2022г, №450198 | L19: ГБУ ДПО РД ДИРО, 36ч, "Реализация требований обновленных ФГОС НОО, ФГОС ООО в работе учителя" | N19: 5А | P19: marziuat1978@gmail.com | Q19: 89289759211
A21: 29 | B21: Ахмедова Джавгар Магомедсаидовна | C21: 33494 | D21: 8211077527 | E21: Математик | F21: ДГУ | G21: 2015 | H21: Учитель математики | I21: 12 | J21: соответствие | K21: 2022 г. № | L21: ГБУ ДПО РД "ДИРО","Реализация требований обновленных ФГОС НОО и ФГОС ООО в работе учителя", 72 часа | P21: dzhavgar.akhmedova@bk.ru | Q21: 8938-205-95-54
A22: 4 | B22: Абдуллаева Муъминат Гасановна | E22: 24198 | F22: 8211-153520 | G22: математика, информатика | H22: ДГУ | I22: 1989 | J22: учитель математики | K22: 35/35 | L22: первая | M22: 2022,№052415815767,15.06.2022 | N22: Махачкала,ДИРО | O22: 7 | R22: 89634016710
A23: 14 | B23: Джабаева Раисат Магомедзагидовна | E23: 26104 | F23: 8212-267359математика | H23: ДГУ | I23: 1994 | J23: учитель математики | K23: 30/30 | L23: соответствие | M23: 2022,№052415815846,15.06.2022 | N23: Махачкала,ДИРО | O23: 10 | R23: 89064809760
B24: Магомедов Сулайбангаджи Чупанович | E24: 20615 | F24: 8203-632921 | G24: физика | H24: ДГУ | I24: 1979 | J24: учитель математики | K24: 45/45 | L24: высшая | M24: 2020,№050400005220,26.12.2020 | N24: Махачкала,ОЦ Знание | P24: Почетный работник образования РФ | Q24: sulaybangadzhi. | R24: 89064479691
B25: Гаджиева Шахризат Магомедовна | C25: 29045 | D25: 8207436556 | E25: учитель математики по специальности "математика" | G25: 2003 | H25: математик | I25: 24 | J25: высшая | K25: 4126608 от 21.12.2023 | L25: ГБУ ДПО РД "ДИРО" реализация требований ФГОС ООО, ФГОС ООО в работе учителя" ( математика) 36ч. | N25: 11 | P25: usisha_79@mail.ru | Q25: 89280626120
B26: Магомедов Аминулла Магомедович | C26: 28543 | D26: 8203-212072 | E26: Математика и информатика, Менеджмент и экономика | F26: ДГУ, УДПО МЦПК | G26: 2002, 2018 | H26: Учитель математики и информатики | I26: 22 | K26: 2020 №ПИОН-00862, 12.02.2020 | L26: Махачкала, ОАНО ДПО "СКАЕНГ" | P26: gerch78@mail.ru | Q26: 89385559050
A27: 11 | B27: Курбанова Байгинат Сулеймангаджиевна | C27: 28014 | D27: 8202-636732 | E27: Математика | F27: ДГПУ | G27: 1999 | H27: Учитель математики | I27: 24 | K27: 2015 №04013144, 03.10.2015 | L27: Махачкала, ДИРО | N27: 6 | P27: kurbanova.bajginat@bk.ru | Q27: 89285559281
A28: 12 | B28: Киримова Патимат Абдулкадировна | C28: 27846 | D28: 8203-669856 | E28: Математика | F28: ДГУ | G28: 2004 | H28: Учитель математики | I28: 28 | K28: 2020, №040000210582, 30.11.2020 | L28: Махачкала, ГБОУ ДПО "Дагестанский институт развития образования" | P28: patimat.kirimova@bk.ru | Q28: 89640100196
A29: 5 | B29: Султанов Раджаб Магомедович | C29: 25114 | D29: 8213406471 | E29: Учитель физики и математики | F29: ДГУ | G29: 1990 | H29: Учитель математики | I29: 33\33 | K29: 2022,№ 052415816028,15.06.2022г. | L29: Реализация требований обновленных ФГОС НОО,ФГОС ООО в работе учителя 36ч. | P29: sultanovradjab085@gmail.com | Q29: 89285132188
A30: 13 | B30: Исмаилов Курбан Камилович | C30: 38013 | D30: 8223776537 | H30: Учитель математики | P30: boss.curban@yandex.ru | Q30: 89280631355
A31: 16 | B31: Исаев Магомедрасул Магомедгаджиевич | E31: 23452 | F31: 8209/778352 | G31: Уч. математики и физики | H31: ДГПУ | I31: 1986 | J31: Уч. математики | K31: 16 | M31: 30.11.2020 №040000209937 | N31: Уч.будушего | P31: 10 | R31: isayev-magomedrasul@mail/ru | S31: 89094846084
A32: 4 | B32: Мусаев Кадибагама Рабаданович | E32: 25.07.1959г | F32: 82 03 880940 | G32: инженер -строитель | H32: ДГПТИ | I32: 1985 | J32: учитель, математика | K32: 28 | L32: соответствие | M32: 2017г, 0307589 с 03.10.2017г по 16.12.2017г, ООО УЦ "Эксперт" с24.10.2023 по 17.11.2023 № 183103770866 | Q32: kadibagama@list.ru | R32: 89286813914
A33: 9 | B33: Курбанова Патимат Гаджиевна | E33: 15.07.1968г | F33: 82 13 381050 | G33: учитель математики, | H33: ООО "АКАДЕМИЯ ГОССАТТЕСТАЦИИ",г. Ижевск | I33: 2019 | J33: учитель,математики | K33: 27 | L33: 1 | M33: 2017г,ПК №0307585,с 03.10.2017 по 16.12.2017г ООО УЦ "Эксперт" с24.10.2023 по 17.11.2023 № 183103770864 | P33: Почетная грамота | Q33: patimat.kurbanova 68@mail.ru | R33: 89285258609
A34: 4 | B34: Мусаев Кадибагама Рабаданович | E34: 25.07.1959г | F34: 82 03 880940 | G34: инженер -строитель | H34: ДГПТИ | I34: 1985 | J34: учитель, математика | K34: 28 | L34: соответствие | M34: 2017г, 0307589 с 03.10.2017г по 16.12.2017г, ООО УЦ "Эксперт" с24.10.2023 по 17.11.2023 № 183103770866 | Q34: kadibagama@list.ru | R34: 89286813914
A35: 6 | B35: Магомедсаидов Магомед Кайнурович | C35: 23859 | D35: 8201905208 | E35: уч информатики | F35: КСИ | G35: 2013 | H35: уч математики | I35: 33/33 | J35: первая | M35: АНО ВО "МИСАО",2016г.уч математики | P35: msmkkavkasohs@mail.ru | Q35: 89288368483
A36: 15 | B36: Разакова Сабина Гусейхановна | C36: 34711 | D36: 8214603783 | E36: уч нач классов | F36: РПК | G36: 2014 | H36: уч математики | I36: 10 | J36: первая | M36: УДПО "МЦПК2017г,учитель математики | P36: rsabinag@mail.ru | Q36: 89280458884
B37: Магомедов Рамазан Мухтарович | C37: 28004 | D37: 8221480467 | E37: технолог,менеджмент,математик | F37: ДГПУ, ООО УЦ "Профессионал" | G37: 1999.2016 | H37: учитель математики | I37: 24/24 | J37: соответствие | K37: 2021,№190719 0009763 04.04.2021 | L37: АНО ДПО "ЕЦПК" "Содержание и методика преподавания математики в соответствии с требованиями ФГОС" | M37: ООО УЦ "Профессионал" учитель математики 2016г | N37: нет | O37: нет | P37: ramagom7676@mail.ru | Q37: 88640088911
B38: Абубакаров Дауд Шарапутинович | C38: 32372 | D38: 04 14 688510 | E38: право. физика | F38: ТГПУ, ООО УЦ "Профессионал" | G38: 2011.2018 | H38: учитель математики | I38: 1из 7 | J38: соответствие | K38: №190719 0020411 31.05.2022г | L38: АНО ДПО "ЕЦПК"108 ч "Содержание и методика преподавания физики в соответствии с требованиями ФГОС" | M38: учитель физики,ООО "Инфоурок",2018 | N38: нет | O38: нет | P38: abubakarov_2024@mail.ru | Q38: 89698056360
B39: Тагирова Гулизар Султановна | C39: 35923 | D39: 8218038018 | E39: учитель начальных классов | F39: ГБПОУ РД"ППК им М.М.Меджидова" | G39: 2018 | H39: учитель математики | I39: 1из4 | J39: соответствие | K39: нет | L39: нет | M39: нет | N39: 5 | O39: нет | P39: guliza_2023@mail.ru | Q39: 89312120520
B40: Исаева Гулаймат Гаджиевна | C40: 28872 | D40: 8223808513 | E40: биолог,химик,математик | F40: ДГУ,ООО УЦ "Профессионал" | G40: 2002.2017 | H40: учитель математики | I40: 23из23 | J40: соответствие | K40: №190719 0020413 05.05.2021г | L40: АНО ДПО "ЕЦПК" 108 ч "Содержание и методика преподавания биологии в соответствии с требованиями ФГОС" | M40: учитель математики ООО УЦ "Профессионал" | N40: 7 | O40: нет | P40: igg05@mail.ru | Q40: 89604080400
A41: 11 | B41: Магомедгаджиев Гусейн Ахмедович | C41: 33017 | D41: 8210880147 | E41: Информатика,английский язык. | F41: ДГПУ | G41: 2013 | H41: учитель математики | I41: 11из11 | J41: соответствие | K41: №190719 0020410 31.05.2021г | L41: АНО ДПО "ЕЦПК" 108 ч "Содержание и методика преподавания иностранного языка в соответствии с требованиями ФГОС" | M41: нет | N41: 6 | O41: нет | P41: Guseyn2405@mail.ru | Q41: 89633717318
A42: 4 | B42: Даудгаджиева Калимат Магомедзагтровна | E42: 15936 | F42: 8203/188983 | G42: математик | H42: ДГПИ | I42: 1966 | J42: учитель. математика | K42: 58/58 | L42: первая | M42: ГБОУ ДПО "Даг. Инстит. Разв. Образ."2017;№299, 108ч/ФГАОУ ДПО "АРГП и ПРРО МПРФ", 2022г, № у-105610/б,36ч. | O42: 6 | P42: "Поч.раб.сферы образ.РФ" | Q42: kalimat.d1943@mail.ru | R42: 89285064254
...

Sheet английский язык
A1: № | B1: ФИО | C1: Дата рождения | D1: Серия, номер паспорта | E1: Специальность по ДИПЛОМУ (перечислить все в порядке получения) | F1: Что окончил (перечислить все в порядке получения) | G1: Год окончания (перечислить все в порядке получения) | H1: Должность работника, преподав. предмет (сколько долж-й - столько раз показать человека) | I1: Стаж педагогической/общий | J1: Квалификационная категория | K1: ПОВЫШЕНИЕ КВАЛИФИКАЦИИ: Год прохождения КПК (за последние 3 года) , номер и дата удостоверения | L1: ПОВЫШЕНИЕ КВАЛИФИКАЦИИ: учреждение, количество часов,название курса | M1: Переподготовка (специальность по диплому, наименование учреждения, год окончания, в порядке получения) | N1: Классное руководство (указать класс) | O1: Звания и награды | P1: Адрес электронной почты | Q1: Контактный номер телефона
B2: 1 | C2: 2 | D2: 3 | E2: 4 | F2: 5 | G2: 6 | H2: 7 | I2: 8 | J2: 9 | K2: 10 | L2: 11 | M2: 12 | N2: 13 | O2: 14 | P2: 15 | Q2: 16
A3: 2 | B3: Абдуллаева Татьяна Витальевна | C3: 31582 | D3: 8218075537 | E3: учитель русского языка и иностранного языка | F3: ДГПУ им. Р. Гамзатова, г. Махачкала | G3: 2023 | H3: учитель английского языка | I3: 6 лет | J3: первая | K3: 03.09.2022, 04 100556, р/н 468537; 15.06.2022, 052415815769, р/н 450029; 2023г. 150000343528, р/н у-136746/б | L3: ГБУ ДПО РД ДИРО, 48 часов, "Школа Минпросвещения России: новые возможности для повышения качества образования", ГБУ ДПО РД ДИРО, 36 часов, "Реализация требований обновленных ФГОС, НОО, ФГОС ООО в работе учитнля"; ФГАОУ ДПО "Академия реализации гос.политики и проф.развития работников образования Министерства просвещения Российской Федерации", 24 часа, "Организация деятельности профильных психолого-педагогических классов (групп) в ОО" | M3: - | N3: 11 | O3: - | P3: akservicea50@gmail.com | Q3: 9280493056
A4: 21 | B4: Джабраилова Разият Башировна | C4: 36665 | D4: 8219299693 | E4: Учитель английского языка | F4: ДГПУ г.Махачкала | G4: 2022г | H4: Учитель английского языка | I4: 2г | P4: raziatdzabrailova608@gmail.com | Q4: 9285405199
A5: 35 | B5: Магомедова Хадижат Мусаевна | C5: 31727 | D5: 8206254099 | E5: учитель английского языка | F5: ДГПУ г. Махачкала | G5: 2012 | H5: учитель английского языка | I5: 15 лет | J5: высшая | K5: с 01.06 по 15.06 2022 г. объем 36 часов - 052415815905; с 22.08 по 03.09 2022г. объем 48 часов-04100519; с 15.03 по 01.04 2024г. объем 72 часа - 04128921 | P5: hadizhatmusaevna@mail.ru | Q5: 9288040754
A6: 42 | B6: Рабаданова Салимат Магомедовна | C6: 19205 | D6: 8203097870 | E6: учитель иностранных языков | F6: ДГПИ.г.Махачкала. | G6: 1976г. | H6: учитель английского языка | I6: 48 лет | J6: Первая | K6: 05.04-17.04 2021г. в объёме 72 часа. | L6: ДИРО.Совершенствование методических компетенций учителя английского языка. в ГБУ ДПРО. | O6: Почётный работник | P6: rabadanova0752@.ru | Q6: 9285007794
B7: Омарова Сакинат Магомедовна | C7: 21705 | D7: 8203-700194 | E7: английский яз.география | F7: ДГПИ | G7: 1982 | H7: учитель иностранного языка | I7: 42/42 | J7: высшая | K7: 2022г. У-108425/б | L7: "Реализация требований обновленных ФГОС,НОО, ФГОС ООО в работе учителя" Москва 36 ч. | P7: somarova44@gmail.com | Q7: 89285432089
A8: 16 | B8: Магомедова Сарият Ахмедовна | C8: 33378 | D8: 8211-022952 | E8: учитель английского языка по специальности "Иностранный язык" | F8: ДГУ | G8: 2013 | H8: учитель иностранного языка | I8: 14/14 | J8: соответствие | K8: 2023 г. № 000000079768 25.09.23 г.2021. №052415817016, № 052414953645 от 2021г.; 25.09.2023г.№292104; | L8: г.Ижевск 144ч. " Форимирование профессиональгной компетентности учителя ни.языка в условиях реализации обновленных ФГОС СОО,ФГОС НОО""Центр непрерывного повышения профессионального мастерства педагогических работников" Махачкала 144ч. "Совершенствованиепрофессиональных компетенций и повышения качества образовательной деятельности учителей иностранных языков" ; "Центр непрерывного повышения профессионального мастерства педагогических работников" Махачкала 16ч. "Использование современных информационно-комуникационных технологий в образовательном процессе" ;г.Ижевск 144ч. " Формирование профессиональной компететности учителя иностранного языка в условиях реализации обновленных ФГОС ООО,ФГОС СОО,ФГОС НОО"; | P8: msrd91@gmail.com | Q8: 89884277042
A9: 38 | B9: Гаджиомарова Аминат Магомедовна | C9: 30664 | D9: 8206-228981 | E9: лингвист, предподаватель английского языка и арабского языка по специальности " Теория и методика предподавания иностранных языков и культур " | F9: ДГУ | G9: 2007 | H9: учитель иностранного языка | I9: 17/17 | J9: первая | P9: Malimari@inbox.ru | Q9: 89289787800
A10: 39 | B10: Омарова Абидат Омаровна | C10: 36729 | D10: 8220-349713 | E10: 44.03.05 | F10: ДГПУ | G10: 2023 | H10: учитель иностранного языка | J10: соответствие | P10: abidat_00@mail.ru | Q10: 89887770943
A11: 20 | B11: Магомедова Райсат Магомедовна | C11: 21580 | D11: 82 06-038685 | E11: Учитель иностранного языка | F11: ДГПИ | G11: 1984 | H11: учитель английского языка | I11: 38/38 | J11: 1 категория | K11: 2022,150000117355,12.05.2022 | L11: АРГППРРО "Реализация требований обновлённых ФГОС" г.Москва | O11: Почётный работник общего образования РФ | P11: rajsat.magomedova2017@yandex.ru | Q11: 89285053841
A12: 44 | B12: Гасангусенова Марьян Гаджиевна | C12: 22820 | D12: 82 09 833057 | E12: Учитель иностранного языка | F12: ДГПИ | G12: 1985 | H12: учитель английского языка | I12: 36/36 | J12: соответствие
A13: 5 | B13: Рабаданова Раисат Магомедовна | C13: 18.06.1989г | D13: 8205957075 математик | E13: учитель английского яз. | F13: ДГПУ | G13: 2012г. | H13: учит.английского яз. | I13: 14 | J13: вышее | K13: 04038508.14939.2021г. | L13: 8222 | P13: raisa.rabadanova777@gmail.com | Q13: 89886532362 89285241652 89640214527 89285082471
A14: 3 | B14: Абдулкадиров Абдулкадир Курбаналиевич | C14: 35500 | D14: 82 16 897802 | E14: Педагогическое образование с двумя профилями подготовки | F14: ДГПУ | G14: 2023 | H14: учитель иностранного языка | I14: 3./3 | J14: соответствие | K14: 2022г., № 052415815758 | L14: ГБУ ДПО РД "ДИРО" 36 часов, "Реализация требований обновленных ФГОС НОО, ФГОС ООО в работе учителя" | P14: Abdulkadir199711@mail.ru | Q14: 89634227242
A15: 12 | B15: Магомедов Исагаджи Ахмедович | C15: 34851 | D15: 82 15 662014 | E15: Экономика, Педагогическое образование с двумя профилями подготовки | F15: ДГТУ, ДГПУ | G15: 2016, 2020 | H15: учитель иностранного языка | I15: 9./9 | J15: соответствие | N15: 6 | P15: magomedov.isagadzhi@mail.ru | Q15: 89640093311
A16: 31 | B16: Абдулкадыров Магарам Курбанисмаилович | C16: 33569 | D16: 82 11 105163 | E16: Теория и методика преподавания иностранных языков и культур | F16: ДГУ | G16: 2015 | H16: учитель английского языка | I16: 2./4 | J16: высшая | K16: 2024г. ГБУДПО РД "ДИРО" ГБУ ДПО РД "ДИРО" 04 126249 рег номер 493349 | M16: НАНО ДПО "Образовательный центр Знание" 2021г. учитель иностранного языка (английский язык) | N16: 5 | P16: magaramabdulkadyrov349@gmail.com | Q16: 89280475214
A17: 5 | B17: Махмудов Нурулла Омарович | C17: 21103 | D17: 82 15 786633 | E17: учитель французского и немецкого | F17: ДГПИ | G17: 1981 | H17: учитель родного языка и литературы | I17: 43/43 | J17: вторая | K17: №0524158158, 2022 | L17: 36ч. Реализация требований обновленных ФГОС в работе учителя | N17: 9 | P17: asiyat.ahmedova.83@mail.ru | Q17: 89654874313
B18: Махмудов Нурулла Омарович | C18: 21103 | D18: 82 15 786633 | E18: учитель французского и немецкого | F18: ДГПИ | G18: 1981 | H18: учитель географии | I18: 43/43 | J18: вторая | K18: №0524158158, 2022 | L18: 36ч. Реализация требований обновленных ФГОС в работе учителя | N18: 9 | P18: asiyat.ahmedova.83@mail.ru | Q18: 89654874313
B19: Махмудов Нурулла Омарович | C19: 21103 | D19: 82 15 786633 | E19: учитель французского и немецкого | F19: ДГПИ | G19: 1981 | H19: учитель истории | I19: 43/43 | J19: вторая | N19: 9 | P19: asiyat.ahmedova.83@mail.ru | Q19: 89654874313
B20: Муртазалиев Марат Магомедгаджиевич | C20: 34115 | D20: 8213342216 | E20: Инженер/Учитель иностранного языка/Учитель информатики и ИКТ | F20: ДГУ/ОБЗ | G20: 2015/2019/2023 | H20: Преподаватель английского языка | I20: 4/4 | M20: Учитель иностранного (английского) языка, НАНО ДПО ОЦЗ, 2019г. | P20: marat-rat@yandex.ru | Q20: 89285778299
A21: 14 | B21: Абдуллаева Марзият Камиловна | C21: 25987 | D21: 8201574307 | E21: Учитель английского языка | F21: ДГПИ | G21: 1993 | H21: Педагог английского языка | I21: 28/28 | K21: 2021г. №242 | L21: АНО ДПО "ОЦ Спектр" 108ч., "Формирование профессиональной компетентности учителя английского языка в условиях реализации ФГОС ООО" | O21: Почетный работник воспитания и просвещения РФ | P21: abdullaevamarzyat@yandex.ru | Q21: 89286763204
A22: 21 | B22: Магомедова Патимат Курбанмагомедовна | C22: 36501 | D22: 8219254309 | E22: Учитель английского языка | F22: ДГПУ | G22: 2022 | H22: Педагог английского языка | I22: 0 | N22: 5Б | P22: patimatmagomedova18766@gmail.com | Q22: 89896742009
B23: Магомедова Джума Гаджисултановна | E23: 23072 | F23: 1807-096455 | G23: русский язык и литература с дополнительной специальностью "Педагогика";профессиональная переподготовка т " Теория и методика обучения иностранному языку | H23: ДГПИ,ДГПУ | I23: 1984 | J23: учитель иностранного языка | K23: 17/17 | L23: соответствие | M23: 2022-№ у 107191/б с 29.03.2022 - 12.05.2022; | N23: ДИРО - 36 ч."Реализация требований обновленных ФГОС НОО,ФГОС ООО в работе учителя" | O23: . | P23: . | Q23: 0 | R23: gulzhanat20101986@mail.ru | S23: 89285888449
A24: 25 | B24: Ахмедова Эльмира Руслановна | C24: 36846 | D24: 8220421822 | E24: Препод. в нач. кл. | F24: ППК г.Избербаш | G24: 2020 | H24: Учитель английского языка | I24: 2 | J24: соответствие | M24: "Учитель английского языка", АНО ДПО "ПЛАТФОРМА", 2022 г. | P24: Akhme.almira777@gmail.com | Q24: 8906-377-72-06
A25: 12 | B25: Гасангусенова Мариян Гаджиевна | E25: 22820 | F25: 8209-833057 | G25: учитель английского языка | H25: ДГПИ | I25: 1985 | J25: Учитель английского языка | K25: 35/39 | L25: соответствие | M25: 2022,№050400012443,13.11.2022 | N25: Махачкала,ОЦ Знание | Q25: mariyan.62 | R25: 89637922158
A26: 15 | B26: Исмаилов Исмаил Габибович | E26: 26845 | F26: 8218-075696 | G26: русский язык | H26: ДГУ | I26: 1995 | J26: учитель английского языка | K26: 20/29 | L26: соответствие | M26: 2024,№129746,29.05.2024 | N26: Махачкала,ДИРО | Q26: Ismail.ismailov.1973 | R26: 89894589886
A27: 17 | B27: Магомедов Газимагомед Магомедалиевич | E27: 27395 | F27: 8200-194909 | G27: русский язык | H27: ДГУ | I27: 2007 | J27: учитель английского языка | K27: 27/27 | L27: первая | M27: 2023,№050400008474,25.11.2023 | N27: Махачкала,ОЦ СПЕКТР | O27: 6 | Q27: gazi.magomedov,75 | R27: 89654892325
B28: Магомедова Асият Исагаджиевна | C28: 30378 | D28: 8203712998 | E28: УЧИТЕЛЬ АНГЛИЙСКОГО И ФРАНЦУЗСКОГО ЯЗЫКОВ ПО СПЕЦИАЛЬНОСТИ "игостранный язык" | G28: 2006 | H28: учитель иностранного языка | I28: 15 | J28: высшая | K28: 2022 | L28: ГБУ ДПО РД "ДИРО" проектирование образовательного процесса по иностранным языкам в условиях реализации требований | P28: asiyatm1984@icloud.com | Q28: 89886938160
B29: Магомедова Асият Исагаджиевна | C29: 30378 | D29: 8203712998 | E29: УЧИТЕЛЬ АНГЛИЙСКОГО И ФРАНЦУЗСКОГО ЯЗЫКОВ ПО СПЕЦИАЛЬНОСТИ "игостранный язык" | G29: 2006 | H29: учитель иностранного языка | I29: 15 | J29: высшая | K29: 2022 | L29: ГБУ ДПО РД "ДИРО" проектирование образовательного процесса по иностранным языкам в условиях реализации требований | P29: asiyatm1984@icloud.com | Q29: 89886938160
A30: 15 | B30: Юсупов Мухтар Рамазанович | C30: 33370 | D30: 8211-022915 | E30: Английский язык | F30: ДГПУ | G30: 2013 | H30: Учитель английского языка | I30: 10 | K30: 2020 №04051192, 08.02.2020 | L30: Махачкала, ГБОУ ДПО "Дагестанский институт развития образования" | P30: muhtar050yusupov@gmail.com | Q30: 89673912007
A31: 14 | B31: Мугурбигаджиева Джамиля Курбанмагомедовна | C31: 33856 | D31: 8212249696 | E31: Педагог-психолог,учитель иностранного языка | F31: ДГПУ | G31: 2013.2017 | H31: Учитель английского языка | I31: 16\16 | K31: 2022,№052415815976,15.06.2022г. | L31: "Реализация требований обновленных ФГОС НОО,ФГОС ООО в работе учителя" 36ч. | M31: "Учитель английского языка"ДГПУ,2017 | P31: mugyrbidjam92@mail.ru | Q31: 89282772978
A32: 11 | B32: Тагирова Рабиа Курбановна | E32: 29653 | F32: 8203/573456 | G32: Уч. англ. и арабского языков | H32: ДГПУ | I32: 2003 | J32: Уч. англ. языка | K32: 21 | L32: 1 | M32: 29.02.2020 №050400006400 | N32: НАНО "Знание" | R32: tagirovarabia@gmail.com | S32: 89289784640
A33: 29 | B33: Тааева Сакинат Алиевна | E33: 19.11.1992г | F33: 82 13 380 911 | G33: учитель английского и французского языков | I33: 2020 | J33: учитель, английский язык | K33: 7 | L33: соответствие | M33: ДИРО 31.07.2023/14.08.2023 | Q33: Taaevasa@gmail.ru | R33: 89282843946
A34: 26 | B34: Рашидова Кумсият Юнусовна | C34: 37159 | D34: 8221 494037 | E34: уч нач классов | F34: СГПИ | G34: 2024 | H34: уч анг | I34: 6 | J34: соответсвие | M34: МЦПК АКАДЕМИЯ "КАСПИЙ"2022г,учитель английского языка,530ч | N34: 7.11 | P34: r.kumsiaytka2515@mail.ru | Q34: 89604118646
A35: 8 | B35: Рахманова Мадина Курбанисмаиловна | C35: 31767 | D35: 8218135919 | E35: начальные классы,иностранный язык | F35: ИПК,ВГАППСС | G35: 2006.2017 | H35: учитель иностранного языка | I35: 10из18 | J35: соответствие | K35: №190719 0009752 04.04.2021г | L35: АНО ДПО "ЕЦПК"108 ч "Развитие профессиональных компетенций и мастерства педагога. Инновационные и активные методы обучения английскому языку в условиях реализации ФГОС" | M35: учитель иностранного языка,АНО ДПО "ВГАППССС",2017 | N35: нет | O35: нет | P35: 7raxmanova2186@mail.ru | Q35: 89824675363
B36: Магомедгаджиев Гусейн Ахмедович | C36: 33017 | D36: 8210880147 | E36: Информатика,английский язык. | F36: ДГПУ | G36: 2013 | H36: учитель иностранного языка | I36: 3из 11 | J36: соответствие | K36: №190719 0020410 31.05.2021г | L36: АНО ДПО "ЕЦПК" 108 ч "Содержание и методика преподавания иностранного языка в соответствии с требованиями ФГОС" | M36: нет | N36: 6 | O36: нет | P36: Guseyn2405@mail.ru | Q36: 89633717318
A37: 13 | B37: Магомедова Райсат Магомедовна | E37: 21580 | F37: 8206/38685 | G37: французский язык | H37: ДГПУ | I37: 1984 | J37: учитель,английский язык | K37: 40/40 | L37: высшая | M37: ФГАОУ ДПО "АРГП и ПРРО МПРФ", 2022г, № у-107183/б,36ч. | P37: "Поч.раб.сферы образ.РФ" | Q37: raysat.magomedova.1977@ | R37: 89285053841
